BEGIN:VCALENDAR
VERSION:2.0
PRODID:-//CAI - Club Alpino Italiano - Sezione di Crema - ECPv5.14.0.2//NONSGML v1.0//EN
CALSCALE:GREGORIAN
METHOD:PUBLISH
X-WR-CALNAME:CAI - Club Alpino Italiano - Sezione di Crema
X-ORIGINAL-URL:https://caicrema.it
X-WR-CALDESC:Eventi per CAI - Club Alpino Italiano - Sezione di Crema
REFRESH-INTERVAL;VALUE=DURATION:PT1H
X-Robots-Tag:noindex
X-PUBLISHED-TTL:PT1H
BEGIN:VTIMEZONE
TZID:Europe/Rome
BEGIN:DAYLIGHT
TZOFFSETFROM:+0100
TZOFFSETTO:+0200
TZNAME:CEST
DTSTART:20240331T010000
END:DAYLIGHT
BEGIN:STANDARD
TZOFFSETFROM:+0200
TZOFFSETTO:+0100
TZNAME:CET
DTSTART:20241027T010000
END:STANDARD
END:VTIMEZONE
BEGIN:VEVENT
DTSTART;TZID=Europe/Rome:20240203T080000
DTEND;TZID=Europe/Rome:20240203T170000
DTSTAMP:20260422T025441
CREATED:20240128T114951Z
LAST-MODIFIED:20240128T114951Z
UID:31057-1706947200-1706979600@caicrema.it
SUMMARY:Valvarrone "ponte tibetano Tremenico/Lentree" (TAM ONC)
DESCRIPTION:Questa è una prima escursione sulle criticità nei territori di montagna sempre più presi d’assalto da nuove installazioni turistiche sponsorizzate da amministratori locali che ritengono di poter attrarre nuove presenze quali risposte ai bisogni dei residenti. Chi abita nelle Terre Alte non ha nell’immediato queste necessità che spesso avvantaggiano pochi ma non l’intera comunità che subisce scelte pensate altrove senza un’adeguata discussione tra costi e benefici non solo economici. Altri sono i bisogni reali delle popolazioni montane che spesso non hanno la possibilità di usufruire di quei diritti di cittadinanza quali: presidi sanitari\, istituti scolastici\, trasporti e accessibilità alla banda larga\, così come avviene per chi vive nelle aree di pianura. Sono questi servizi di base che possono garantire la permanenza nei territori montani\, in grado di attrarre nuovi residenti\, anche intermittenti\, e sviluppare nuove forme di fruizione consapevole attenta all’ambiente\, alla cultura e alla storia dei luoghi. \nLe iscrizioni si ricevono in sede: martedì 30 Gennaio 2024\, dalle ore 21:00 alle 22:00. Pranzo al sacco. \nScarica la locandina completa
URL:https://caicrema.it/evento/valvarrone-ponte-tibetano-tremenico-lentree-tam-onc/
CATEGORIES:TAM ONC
END:VEVENT
END:VCALENDAR