BEGIN:VCALENDAR
VERSION:2.0
PRODID:-//CAI - Club Alpino Italiano - Sezione di Crema - ECPv5.14.0.2//NONSGML v1.0//EN
CALSCALE:GREGORIAN
METHOD:PUBLISH
X-WR-CALNAME:CAI - Club Alpino Italiano - Sezione di Crema
X-ORIGINAL-URL:https://caicrema.it
X-WR-CALDESC:Eventi per CAI - Club Alpino Italiano - Sezione di Crema
REFRESH-INTERVAL;VALUE=DURATION:PT1H
X-Robots-Tag:noindex
X-PUBLISHED-TTL:PT1H
BEGIN:VTIMEZONE
TZID:Europe/Rome
BEGIN:DAYLIGHT
TZOFFSETFROM:+0100
TZOFFSETTO:+0200
TZNAME:CEST
DTSTART:20240331T010000
END:DAYLIGHT
BEGIN:STANDARD
TZOFFSETFROM:+0200
TZOFFSETTO:+0100
TZNAME:CET
DTSTART:20241027T010000
END:STANDARD
END:VTIMEZONE
BEGIN:VEVENT
DTSTART;TZID=Europe/Rome:20240413T080000
DTEND;TZID=Europe/Rome:20240413T170000
DTSTAMP:20260422T002115
CREATED:20231228T132515Z
LAST-MODIFIED:20231228T132515Z
UID:30863-1712995200-1713027600@caicrema.it
SUMMARY:Conoscere il territorio - 4° tappa (TAM ONC)
DESCRIPTION:Il percorso inizia da un centro abitato (Bariano)\, raggiunto in autobus. Dal paese si segue la ciclopedonale del Parco fino a raggiungere il sottopasso che permette di bypassare la strada (SP101) e la ferrovia. Sempre su sponda orografica destra\, in direzione Nord\, si intraprende il cammino lontani dal Serio che riavvicineremo superata la Santella del Carpeneto. Dopo una breve sosta si riparte e\, superati i coltivi intensivi\, ci si avvicina al tratto con le rive naturali dove si potranno osservare i gruccioni. L’ultima parte del percorso d’andata \, prima di giungere al ponte di Ghisalba (SP122)\, per passare sulla sponda sinistra e rientrare\, è caratterizzato dalla presenza dei Laghetti del Guado (birdwatching)\, e dai filari di cespugliose e arbusti. \nLe iscrizioni si ricevono in sede: venerdì 5 e martedì 9 Aprile 2024\, dalle ore 21:00 alle 22:00.\nPranzo al sacco. Soste previste: Bariano\, Santella del Carpeneto\, Muratella. \nScarica la locandina completa
URL:https://caicrema.it/evento/conoscere-il-territorio-4-tappa-tam-onc/
CATEGORIES:TAM ONC
END:VEVENT
END:VCALENDAR