BEGIN:VCALENDAR
VERSION:2.0
PRODID:-//CAI - Club Alpino Italiano - Sezione di Crema - ECPv5.14.0.2//NONSGML v1.0//EN
CALSCALE:GREGORIAN
METHOD:PUBLISH
X-WR-CALNAME:CAI - Club Alpino Italiano - Sezione di Crema
X-ORIGINAL-URL:https://caicrema.it
X-WR-CALDESC:Eventi per CAI - Club Alpino Italiano - Sezione di Crema
REFRESH-INTERVAL;VALUE=DURATION:PT1H
X-Robots-Tag:noindex
X-PUBLISHED-TTL:PT1H
BEGIN:VTIMEZONE
TZID:Europe/Rome
BEGIN:DAYLIGHT
TZOFFSETFROM:+0100
TZOFFSETTO:+0200
TZNAME:CEST
DTSTART:20240331T010000
END:DAYLIGHT
BEGIN:STANDARD
TZOFFSETFROM:+0200
TZOFFSETTO:+0100
TZNAME:CET
DTSTART:20241027T010000
END:STANDARD
END:VTIMEZONE
BEGIN:VEVENT
DTSTART;TZID=Europe/Rome:20241109T080000
DTEND;TZID=Europe/Rome:20241109T170000
DTSTAMP:20260421T122502
CREATED:20231228T163709Z
LAST-MODIFIED:20241021T201742Z
UID:30987-1731139200-1731171600@caicrema.it
SUMMARY:Lagobisone - Monte Pradegna (TAM ONC)
DESCRIPTION:Il percorso inizia dal centro di Lagobisione\, dove è possibile ammirare il piccolo oratorio in pietra a vista con semplice campaniletto sulla facciata\, e prosegue fino a raggiungere la sommità a ovest\, per poi proseguire sul crinale del gobbone verso Est.Da qui si può ammirare il Ponte Gobbo di Bobbio\, la discesa ci condurrà nel bosco di pino silvestre\, aggirato il versante seguiremo alcune strade di campagna che ci permetteranno di proseguire immersi nei colori dei boschi di latifoglie per far ritorno al punto di partenza. \nLe iscrizioni si ricevono in sede: venerdì 1 e martedì 5 novembre 2024\, dalle ore 21:00 alle 22:00. Ritrovo ore 7:20\, parcheggio di via Capergnanica\, Crema. Pranzo al sacco. Portare 1 litro di acqua \nScarica la locandina con i dati tecnici dell’escursione
URL:https://caicrema.it/evento/lagobisone-monte-pradegna-tam-onc/
CATEGORIES:TAM ONC
END:VEVENT
END:VCALENDAR