BEGIN:VCALENDAR
VERSION:2.0
PRODID:-//CAI - Club Alpino Italiano - Sezione di Crema - ECPv5.14.0.2//NONSGML v1.0//EN
CALSCALE:GREGORIAN
METHOD:PUBLISH
X-WR-CALNAME:CAI - Club Alpino Italiano - Sezione di Crema
X-ORIGINAL-URL:https://caicrema.it
X-WR-CALDESC:Eventi per CAI - Club Alpino Italiano - Sezione di Crema
REFRESH-INTERVAL;VALUE=DURATION:PT1H
X-Robots-Tag:noindex
X-PUBLISHED-TTL:PT1H
BEGIN:VTIMEZONE
TZID:Europe/Rome
BEGIN:DAYLIGHT
TZOFFSETFROM:+0100
TZOFFSETTO:+0200
TZNAME:CEST
DTSTART:20250330T010000
END:DAYLIGHT
BEGIN:STANDARD
TZOFFSETFROM:+0200
TZOFFSETTO:+0100
TZNAME:CET
DTSTART:20251026T010000
END:STANDARD
END:VTIMEZONE
BEGIN:VEVENT
DTSTART;TZID=Europe/Rome:20250322T080000
DTEND;TZID=Europe/Rome:20250322T170000
DTSTAMP:20260421T055911
CREATED:20241229T104010Z
LAST-MODIFIED:20241229T104010Z
UID:31570-1742630400-1742662800@caicrema.it
SUMMARY:Il sentiero del Tidone - Pianello Caminata (TAM ONC)
DESCRIPTION:Il Sentiero del Tidone attraversa in questo tratto la strada dei Mulini\, dove vi sono ancora antichi mulini a testimonianza dell’importante ruolo che l’attività molitoria ha avuto nei secoli passati nella media e alta Val Tidone. Sono stati realizzati per lo più attorno al XV secolo\, ma si hanno notizie di mulini risalenti addirittura all’anno 1000. Se ne possono contare una cinquantina\, ma solo pochi di essi conservano ancora al proprio interno le attrezzature di una volta\, attrezzature ancora funzionanti. Alcuni dei proprietari di questi antichi mulini hanno costituito l’associazione “La Strada dei Mulini” con l’intento di valorizzare questo patrimonio storico recuperando i mulini sparsi nel territorio. Sede dell’associazione e centro di accoglienza della “Strada dei Mulini”\, è il Mulino del Lentino che ospita anche il Museo della\nCiviltà Molitoria dove sono esposti una serie di oggetti\, documenti e attrezzi\, frutto di ricerca e studi approfonditi.\nIl percorso inizia dal parcheggio della stazione di Pianello Val Tidone\, dove verranno lasciate le auto. Il primo tratto sarà percorso lungo la sponda orografica dx fino ad incrociare il sentiero 221\, qui verrà guadato il torrente per passare sulla sponda opposta. Successivamente\, per abbreviare il tratto sulla provinciale (PC412R)\,\nsi dovrà guadare nuovamente il Tidone e all’altezza delle Case Pergalini\, si riguaderà per rientrare sulla sponda sx e subito dopo altri due guadi per raggiungere il Molino del Lentino sulla sponda orogarafica sx. Dopo la visita al Mulino\, verrà raggiunto Nibbiano (Neblanum) e se l’orario sarà favorevole \, incrociando la Via degli\nAbati termineremo l’escursione a Caminata\, dove alle ore 14:18 si prenderà l’autobus per rientrare Pianello. In alternativa alle ore 14:22 da Nibbiano. \nIscrizioni in sede\, dalle ore 21 alle 22 di venerdì 14 e martedì 18 marzo 2025. \nScarica la locandina completa
URL:https://caicrema.it/evento/il-sentiero-del-tidone-pianello-caminata-tam-onc/
CATEGORIES:TAM ONC
END:VEVENT
END:VCALENDAR