BEGIN:VCALENDAR
VERSION:2.0
PRODID:-//CAI - Club Alpino Italiano - Sezione di Crema - ECPv5.14.0.2//NONSGML v1.0//EN
CALSCALE:GREGORIAN
METHOD:PUBLISH
X-WR-CALNAME:CAI - Club Alpino Italiano - Sezione di Crema
X-ORIGINAL-URL:https://caicrema.it
X-WR-CALDESC:Eventi per CAI - Club Alpino Italiano - Sezione di Crema
REFRESH-INTERVAL;VALUE=DURATION:PT1H
X-Robots-Tag:noindex
X-PUBLISHED-TTL:PT1H
BEGIN:VTIMEZONE
TZID:Europe/Rome
BEGIN:DAYLIGHT
TZOFFSETFROM:+0100
TZOFFSETTO:+0200
TZNAME:CEST
DTSTART:20250330T010000
END:DAYLIGHT
BEGIN:STANDARD
TZOFFSETFROM:+0200
TZOFFSETTO:+0100
TZNAME:CET
DTSTART:20251026T010000
END:STANDARD
END:VTIMEZONE
BEGIN:VEVENT
DTSTART;TZID=Europe/Rome:20250405T080000
DTEND;TZID=Europe/Rome:20250405T170000
DTSTAMP:20260421T041900
CREATED:20250306T202850Z
LAST-MODIFIED:20250403T110705Z
UID:31808-1743840000-1743872400@caicrema.it
SUMMARY:Bassa via del Garda: Salo' - Toscolano maderno (TAM)
DESCRIPTION:Il sentiero della Bassa Via del Garda (BVG)\, sponda bresciana\, è di circa 70 km e suddiviso in cinque tappe\, più una sesta di pianura ma non ancora ultimata. E’ uno dei sentieri più spettacolari e completi che si possono trovare sul lago di Garda\, collega i paesi di Salò e Limone\, unendo la costa alle rete di stradine e sentieri secondari che si trovano nell’entroterra montano. Corre a mezzacosta (il punto più alto raggiunto è il monte Bestone\, 910 metri slm). Assolato in tutte le stagioni ma in ogni stagione con colori e profumi diversi\, sia quando si snoda allo scoperto\, tra olivi\, rose canine\, scotani (albero della nebbia) in primavera e fiammeggianti d’autunno\, sia quando penetra nella frescura del bosco\, tra frassini e carpini\, o sotto gli imponenti esemplari di castagni e faggi\, che allargano le chiome ombrose e d’inverno rameggiano nere grafie nel cielo. Il percorso si svolge in gran parte su sentieri e strade forestali\, con pochi tratti su strade asfaltate.\nDi fronte\, sull’altra costa\, sempre il Monte Baldo\, mutevole anch’esso nel suo aspetto: da lontano\, pacifica mole degradante\, diventa imponente e quasi arcigna nel tormento dei ghiaioni e delle incisioni via via che si risale l’Alto Garda.\nL’escursione di questa tappa inizia dal Parcheggio sentieri (165m)\, nella Valle dei Guanti\, sopra l’abitato di Salò \, dove inizia il sentiero vero e proprio che risale le pendici del monte S. Bartolomeo con una ripida salita a gradoni. Al suo termine si raggiunge la località “La Corna” (405m)\, e la chiesetta S. Bartolomeo (485m). Si riprende per il Passo della Stacca (462m) e la chiesetta della Madonna di Bagnolo (522m). Da qui\, deviando nella Valle di Albio si raggiunge San Michele (399m). Nella parte mediana del percorso si passa per Supiane\, minuscolo borgo\, con ben conservate case in pietra\, per poi raggiungere la frazione di Bezzuglio\, caratterizzata da antiche limonaie. Superato il torrente Vesegna\, il sentiero ci porterà fino ai margini di Sanico\, per poi giungere alla chiesetta di S. Martino (282m)\, adiacente a un minuscolo cimitero suggestivo esempio di antica area cimiteriale. Terminata la visita\, si valuterà se proseguire verso la valle delle cartiere o scendere direttamente a Maderno per non perdere l’autobus del rientro. \nIscrizioni in sede dalle ore 21 alle 22. \nScarica la locandina completa
URL:https://caicrema.it/evento/bassa-via-del-garda-salo-toscolano-maderno-tam/
CATEGORIES:TAM ONC
END:VEVENT
END:VCALENDAR