BEGIN:VCALENDAR
VERSION:2.0
PRODID:-//CAI - Club Alpino Italiano - Sezione di Crema - ECPv5.14.0.2//NONSGML v1.0//EN
CALSCALE:GREGORIAN
METHOD:PUBLISH
X-WR-CALNAME:CAI - Club Alpino Italiano - Sezione di Crema
X-ORIGINAL-URL:https://caicrema.it
X-WR-CALDESC:Eventi per CAI - Club Alpino Italiano - Sezione di Crema
REFRESH-INTERVAL;VALUE=DURATION:PT1H
X-Robots-Tag:noindex
X-PUBLISHED-TTL:PT1H
BEGIN:VTIMEZONE
TZID:Europe/Rome
BEGIN:DAYLIGHT
TZOFFSETFROM:+0100
TZOFFSETTO:+0200
TZNAME:CEST
DTSTART:20250330T010000
END:DAYLIGHT
BEGIN:STANDARD
TZOFFSETFROM:+0200
TZOFFSETTO:+0100
TZNAME:CET
DTSTART:20251026T010000
END:STANDARD
END:VTIMEZONE
BEGIN:VEVENT
DTSTART;TZID=Europe/Rome:20250412T080000
DTEND;TZID=Europe/Rome:20250412T170000
DTSTAMP:20260421T041925
CREATED:20241229T104820Z
LAST-MODIFIED:20241229T104820Z
UID:31573-1744444800-1744477200@caicrema.it
SUMMARY:Il sentiero del Tidone - La sorgente di Annibale (TAM ONC)
DESCRIPTION:Il Sentiero ripercorre in parte i luoghi della leggenda di Annibale\, il quale si dice abbia percorso il sentiero con le sue truppe durante lo svolgimento della seconda guerra punica contro i romani. La leggenda vuole che il Tidone abbia ricevuto il proprio nome da Annibale il quale\, in segno di gratitudine per aver superato il corso\nd’acqua\, gettò un anello in quelle acque dicendo “Ti dono”. Inoltre\, sul sentiero\, si possono trovare i resti di un antico Mulino (Miræi dar Cu’ass) e la presenza di molti sassi neri\, rocce ofiolitiche di origine magmatica\, nati nel mantello terrestre e solidificatisi sul fondo di un antichissimo oceano circa 150 milioni di anni fa.\nDurante l’uscita saranno previste alcune soste per praticare la “Forest bathing (bagno di foresta)”. Ci guiderà in questo percorso di consapevolezza attraverso i sensi e la natura\, Elisabetta Pugliese istruttrice di Forest bathing. Il CAI ha avviato una collaborazione con il Consiglio Nazionale delle Ricerche (CNR)\, sul tema della Terapia\nForestale “La Terapia Forestale si inscrive oggi a pieno titolo tra i tanti e preziosi servizi eco-sistemici offerti dalle foreste\, molti dei quali solo brevemente affrontati nelle prossime pagine. L’immersione in foresta produce effetti diretti e misurabili con un’azione ad ampio spettro che investe\, tra le altre\, la sfera psicologica\, neurologica\, cardiocircolatoria e immunitaria.” \nIl percorso inizia da Moline (387m)\, siamo in provincia di Pavia\, si segue il sentiero del Tidone (ST)\, in direzione di Ossenisio (479m)\, ad Est verso San Silverio\, il Roccone\, fino ad incrociare la Via degli Abati (VA) e il sentiero 019. Si devia dopo il Monte Lazzarello (866m) e si prosegue in direzione Sud/Ovest passando dal Giardino di Pietra Corva (881m)\, Pozzallo 951m)\, Casa Burroni ed infine a Casa Matti (940m)\, luogo della sorgente del Tidone. Da qui\, se verrà confermato il\nProntobus\, si ritornerà al punto di partenza col mezzo\, in caso contrario al mattino verrà portata un’auto a Casa Matti\, per poi recuperare quelle lasciate a Moline. \nIscrizioni in sede\, dalle ore 21 alle 22 di martedì 8 aprile 2025. \nScarica la locandina completa
URL:https://caicrema.it/evento/il-sentiero-del-tidone-la-sorgente-di-annibale-tam-onc/
CATEGORIES:TAM ONC
END:VEVENT
END:VCALENDAR