BEGIN:VCALENDAR
VERSION:2.0
PRODID:-//CAI - Club Alpino Italiano - Sezione di Crema - ECPv5.14.0.2//NONSGML v1.0//EN
CALSCALE:GREGORIAN
METHOD:PUBLISH
X-WR-CALNAME:CAI - Club Alpino Italiano - Sezione di Crema
X-ORIGINAL-URL:https://caicrema.it
X-WR-CALDESC:Eventi per CAI - Club Alpino Italiano - Sezione di Crema
REFRESH-INTERVAL;VALUE=DURATION:PT1H
X-Robots-Tag:noindex
X-PUBLISHED-TTL:PT1H
BEGIN:VTIMEZONE
TZID:Europe/Rome
BEGIN:DAYLIGHT
TZOFFSETFROM:+0100
TZOFFSETTO:+0200
TZNAME:CEST
DTSTART:20250330T010000
END:DAYLIGHT
BEGIN:STANDARD
TZOFFSETFROM:+0200
TZOFFSETTO:+0100
TZNAME:CET
DTSTART:20251026T010000
END:STANDARD
END:VTIMEZONE
BEGIN:VEVENT
DTSTART;TZID=Europe/Rome:20250510T080000
DTEND;TZID=Europe/Rome:20250510T170000
DTSTAMP:20260421T023518
CREATED:20241229T105745Z
LAST-MODIFIED:20250506T104631Z
UID:31579-1746864000-1746896400@caicrema.it
SUMMARY:Il sentiero del Tidone - La sorgente (TAM ONC)
DESCRIPTION:Escursione nella Riserva Naturale Monte Alpe\, che dal 2006 è stata classificata come Zona di Protezione Speciale (ZPS). Il cammino avviene nel bosco di conifere\, pino silvestre e pino nero\, e in un’estesa e fitta faggeta\, mentre nei prati osserveremo le fioriture delle orchidee selvatiche. Durante l’uscita saranno previste alcune soste per praticare la “Forest bathing (bagno di foresta)”. Pratica nata in Giappone negli anni 80 con il nome di Shinrin Yoku\, in seguito all’esigenza di abbassare lo stress derivato dai ritmi di lavoro. In questo percorso di consapevolezza\, attraverso i sensi e la natura\, verremo guidati da Elisabetta Pugliese istruttrice di Forest bathing e socia CAI.\nIl CAI ha avviato una collaborazione con il Consiglio Nazionale delle Ricerche (CNR)\, sul tema della Terapia Forestale: la Terapia Forestale si inscrive oggi a pieno titolo tra i tanti e preziosi servizi eco-sistemici offerti dalle foreste. L’immersione in foresta produce effetti diretti e misurabili con un’azione ad ampio spettro che investe\, tra le altre\, la sfera psicologica\, neurologica\, cardiocircolatoria e immunitaria.\nIl percorso\, per la Riserva Naturale Biogenetica di Monte Alpe\, inizia dalla Cappelletta dei Tre Passi (1100m). Raggiunto l’Alpe (1243) si prosegue per la Costa  dell’Alpe\, su sentiero 018 si raggiunge Casa Matti (930m) e seguendo lo 019\, si arriva alla sorgente di Annibale Barca\, il condottiero\, a Casa Borroni. \nIscrizioni in sede\, dalle ore 21 alle 22 di martedì 6 maggio 2025. \nScarica la locandina completa
URL:https://caicrema.it/evento/il-sentiero-del-tidone-casa-matti-monte-alpe-tam-onc/
CATEGORIES:TAM ONC
END:VEVENT
END:VCALENDAR