BEGIN:VCALENDAR
VERSION:2.0
PRODID:-//CAI - Club Alpino Italiano - Sezione di Crema - ECPv5.14.0.2//NONSGML v1.0//EN
CALSCALE:GREGORIAN
METHOD:PUBLISH
X-WR-CALNAME:CAI - Club Alpino Italiano - Sezione di Crema
X-ORIGINAL-URL:https://caicrema.it
X-WR-CALDESC:Eventi per CAI - Club Alpino Italiano - Sezione di Crema
REFRESH-INTERVAL;VALUE=DURATION:PT1H
X-Robots-Tag:noindex
X-PUBLISHED-TTL:PT1H
BEGIN:VTIMEZONE
TZID:Europe/Rome
BEGIN:DAYLIGHT
TZOFFSETFROM:+0100
TZOFFSETTO:+0200
TZNAME:CEST
DTSTART:20250330T010000
END:DAYLIGHT
BEGIN:STANDARD
TZOFFSETFROM:+0200
TZOFFSETTO:+0100
TZNAME:CET
DTSTART:20251026T010000
END:STANDARD
END:VTIMEZONE
BEGIN:VEVENT
DTSTART;TZID=Europe/Rome:20250614T073000
DTEND;TZID=Europe/Rome:20250614T173000
DTSTAMP:20260421T004728
CREATED:20250104T141101Z
LAST-MODIFIED:20250531T103950Z
UID:31616-1749886200-1749922200@caicrema.it
SUMMARY:PARCO TICINO “CENTRO PARCO GERACI” (TAM ONC)
DESCRIPTION:Escursione nel Parco del Ticino\, territorio che racchiude un composito mosaico di ambienti naturali\, rappresentati dal fiume e da un articolato sistema di zone umide laterali e ambienti ripariali\, da prati aridi e brughiere\, dalle più vaste e meglio conservate superfici della foresta planiziale primaria\, così come da paesaggi\nagrari tradizionali che rappresentano tipici ecosistemi seminaturali\, tra i quali spiccano in particolare le risaie\, di\ngrandissima importanza per l’avifauna acquatica\, nidificante e migratrice e i prati umidi da fieno\, localmente denominati marcite.\nL’estensione e la complessità di questi ecosistemi fa sì che essi siano non solo serbatoi di biodiversità\, ma anche corridoi e aree di sosta per facilitare la migrazione delle specie\, rendendo il Ticino il più importante corridoio ecologico tra Alpi ed Appennini\, anello essenziale di connessione biologica tra l’Europa continentale\, il bacino del Mediterraneo e l’Africa. Percorrendo i sentieri si potranno ascoltare i suoni del bosco e il canto dei numerosi uccelli presenti. Nelle numerose lanche e zone umide presenti nel Parco si potrà praticare il birdwatching per poter osservare l’avifauna acquatica tra cui il gruppo degli Ardeidi\, la Cicogna bianca\, lo Smergo maggiore\, la Moretta tabaccata\, il Tarabuso\, le Testuggini palustri (americana ed europea).\nIl percorso inizia dal Ponte delle Barche di Bereguardo (PV)\, su sentiero ripariale si raggiunge la frazione della Zelata e a seguire\, su carrareccia\, il Centro Parco Geraci.\n\n\nIscrizioni in sede  martedi 10 Giugno 2025\nScarica la locandina completa
URL:https://caicrema.it/evento/in-cammino-nei-parchi-tam-onc/
CATEGORIES:TAM ONC
END:VEVENT
END:VCALENDAR