BEGIN:VCALENDAR
VERSION:2.0
PRODID:-//CAI - Club Alpino Italiano - Sezione di Crema - ECPv5.14.0.2//NONSGML v1.0//EN
CALSCALE:GREGORIAN
METHOD:PUBLISH
X-WR-CALNAME:CAI - Club Alpino Italiano - Sezione di Crema
X-ORIGINAL-URL:https://caicrema.it
X-WR-CALDESC:Eventi per CAI - Club Alpino Italiano - Sezione di Crema
REFRESH-INTERVAL;VALUE=DURATION:PT1H
X-Robots-Tag:noindex
X-PUBLISHED-TTL:PT1H
BEGIN:VTIMEZONE
TZID:Europe/Rome
BEGIN:DAYLIGHT
TZOFFSETFROM:+0100
TZOFFSETTO:+0200
TZNAME:CEST
DTSTART:20250330T010000
END:DAYLIGHT
BEGIN:STANDARD
TZOFFSETFROM:+0200
TZOFFSETTO:+0100
TZNAME:CET
DTSTART:20251026T010000
END:STANDARD
END:VTIMEZONE
BEGIN:VEVENT
DTSTART;TZID=Europe/Rome:20250621T080000
DTEND;TZID=Europe/Rome:20250621T170000
DTSTAMP:20260421T011024
CREATED:20250104T141439Z
LAST-MODIFIED:20250531T104151Z
UID:31619-1750492800-1750525200@caicrema.it
SUMMARY:Alta Val Nure: Val Lardana e i laghi glaciali (TAM ONC)
DESCRIPTION:La Val Lardana è una piccola valle poco frequentata nel comune di Ferriere. E’ racchiusa tra Val Nure e la Val Ceno. Un ambiente modellato dai ghiacciai fino a circa 10.000 anni fa\, con un territorio costellato di laghi glaciali in vari stadi di riassorbimento\, sorgenti\, torbiere\, rocce ofiolitiche\, mulattiere. La valle deve il nome al rio Lardana che è un piccolo torrente che scorre nel comune di Ferriere e sbocca nel torrente Nure di cui è il maggior affluente destro. Nasce dai prati alle falde del Monte Ragola e del Ragolino. Dopo poco più di un chilometro precipita da un’alta cateratta\, nel luogo che viene chiamato Cadelacqua\, corre da sud-ovest a nordest\, e vicino a San Gregorio piega verso il nord nord-est per immettersi nel Nure a Boli.\nDurante l’escursione saranno previste alcune soste per praticare la “Forest bathing (bagno di foresta).\nIl percorso inizia dal cimitero di Cassimoreno (842m)\, segnavia 051\, direzione Sud/Est verso il Passo delle Pianazze. In questo tratto alla sx il Groppo di Cassimoreno\, mentre a dx Il Lagazzo e il Lago Sottano. Giunti all’incrocio con il sentiero 035 (999m)\, si svolta a dx in direzione Ovest\, proseguendo sempre in salita. Quando il sentiero 035 devia a dx (1343m)\, si prosegue dritti passando dalla Grotta del Partigiano e al Prato Bure (1467m) con a dx il Monte Camulara. Su tracce a Prato Grande (1413m) e alla Baita Monte Ragola (1407m). Dopo la sosta si riparte in direzione Nord\, passando da Pramollo\, alla sx il Monte Il Roccone e poco dopo il Lago Bino (1321m). Da qui si devia a dx\, direzione Est\, fino alla cascata dell’Aquila (1100m)\, e\, dopo aver guadato il torrente Lardana\, si raggiungere Casa Martini\, Roffi ed infine Cassimoreno dove termina l’escursione. \nSono in vigore le norme di contenimento delle peste suina africana\, a cui ci si deve attenere.\nUlteriori indicazioni \, sia tecniche che logistiche\, in fase di iscrizione. \nIscrizioni in sede\, dalle ore 21 alle 22 di martedì 17 giugno 2025. \nScarica la locandina completa
URL:https://caicrema.it/evento/alta-val-nure-val-lardana-e-i-laghi-glaciali-tam-onc/
CATEGORIES:TAM ONC
END:VEVENT
END:VCALENDAR