BEGIN:VCALENDAR
VERSION:2.0
PRODID:-//CAI - Club Alpino Italiano - Sezione di Crema - ECPv5.14.0.2//NONSGML v1.0//EN
CALSCALE:GREGORIAN
METHOD:PUBLISH
X-WR-CALNAME:CAI - Club Alpino Italiano - Sezione di Crema
X-ORIGINAL-URL:https://caicrema.it
X-WR-CALDESC:Eventi per CAI - Club Alpino Italiano - Sezione di Crema
REFRESH-INTERVAL;VALUE=DURATION:PT1H
X-Robots-Tag:noindex
X-PUBLISHED-TTL:PT1H
BEGIN:VTIMEZONE
TZID:Europe/Rome
BEGIN:DAYLIGHT
TZOFFSETFROM:+0100
TZOFFSETTO:+0200
TZNAME:CEST
DTSTART:20250330T010000
END:DAYLIGHT
BEGIN:STANDARD
TZOFFSETFROM:+0200
TZOFFSETTO:+0100
TZNAME:CET
DTSTART:20251026T010000
END:STANDARD
END:VTIMEZONE
BEGIN:VEVENT
DTSTART;TZID=Europe/Rome:20250920T080000
DTEND;TZID=Europe/Rome:20250920T170000
DTSTAMP:20260420T195749
CREATED:20250109T214825Z
LAST-MODIFIED:20250910T181511Z
UID:31704-1758355200-1758387600@caicrema.it
SUMMARY:Il bramito dei cervi - passo della Caldarola (TAM ONC)
DESCRIPTION:Escursione al passo della Caldarola per ascoltare il bramito dei cervi. L’autunno porta con sé uno spettacolo naturale unico ed emozionante: il bramito del cervo. Il bramito del cervo è uno dei fenomeni più emozionanti della natura\, che si verifica in autunno\, nei boschi di pianura e di montagna\, durante la stagione degli amori\, tendenzialmente da metà settembre fino a metà ottobre. Questi suoni sono una combinazione di diverse vocalizzazioni. Ogni cervo ha il proprio bramito\, unico\, che può essere udito a distanza e serve a identificare il maschio\, ed è una sorta di muggito intenso e profondo.\nQuesto affascinante comportamento è tipico dei cervi maschi che cercano di attirare l’attenzione delle femmine per dimostrare la propria forza all’interno del branco. Durante questa fase\, i maschi competono tra loro per conquistare l’harem femminile e il conseguente diritto di accoppiarsi. Questa competizione può portare a incontri spettacolari tra cervi\, con sfide di forza\, talvolta mortali\, per determinare il maschio dominante. \nIscrizioni in sede\, dalle ore 21 alle 22 di martedì 16 settembre 2025. \nScarica la locandina completa\nScarica dati tecnici
URL:https://caicrema.it/evento/il-bramito-dei-cervi-tam-onc/
CATEGORIES:TAM ONC
ATTACH;FMTTYPE=image/jpeg:https://caicrema.it/wp-content/uploads/2025/01/Bramito.jpg
END:VEVENT
END:VCALENDAR