BEGIN:VCALENDAR
VERSION:2.0
PRODID:-//CAI - Club Alpino Italiano - Sezione di Crema - ECPv5.14.0.2//NONSGML v1.0//EN
CALSCALE:GREGORIAN
METHOD:PUBLISH
X-WR-CALNAME:CAI - Club Alpino Italiano - Sezione di Crema
X-ORIGINAL-URL:https://caicrema.it
X-WR-CALDESC:Eventi per CAI - Club Alpino Italiano - Sezione di Crema
REFRESH-INTERVAL;VALUE=DURATION:PT1H
X-Robots-Tag:noindex
X-PUBLISHED-TTL:PT1H
BEGIN:VTIMEZONE
TZID:Europe/Rome
BEGIN:DAYLIGHT
TZOFFSETFROM:+0100
TZOFFSETTO:+0200
TZNAME:CEST
DTSTART:20250330T010000
END:DAYLIGHT
BEGIN:STANDARD
TZOFFSETFROM:+0200
TZOFFSETTO:+0100
TZNAME:CET
DTSTART:20251026T010000
END:STANDARD
END:VTIMEZONE
BEGIN:VEVENT
DTSTART;TZID=Europe/Rome:20251018T093000
DTEND;TZID=Europe/Rome:20251018T170000
DTSTAMP:20260420T222606
CREATED:20250306T203725Z
LAST-MODIFIED:20251007T203308Z
UID:31811-1760779800-1760806800@caicrema.it
SUMMARY:Flysch di Monte Cassio  Salti del Diavolo (TAM)
DESCRIPTION:VAL BAGANZA SENTIERO 701/701A – TRACCE\nCoordinatore escursione: Beppe Ruffo Operatore Reg.le ONC-TAM – Cell. 3400583639\nIscrizioni: martedì 14 ottobre ore 21/22.00\nRegolamento iscrizioni: https://caicrema.it/regolamento-iscrizioni-tam/ \nSABATO 18 OTTOBRE 2025 ORE 09.30\nCASSIO (PR) \nATTREZZATURA OBBLIGATORIA\nAbbigliamento a strati adeguato alla stagione\,\nall’altitudine e previsioni meteo\nScarponi da trekking con suola scolpita\nBastoncini telescopici\n1\,5 litri d’acqua\nPranzo al sacco \nDATI TECNICI DELL’ESCURSIONE\nEscursione tipo E\, adatta a persone in buona\nforma fisica ed abituate al cammino\nAltitudine max: 1020m\nSviluppo: 12\,5km circa\nDislivello: + 545/- 625m circa\nDurata: 5h soste escluse\nViaggio: 260km circa\nCosto: €. 68\,00 per auto \nIscrizioni in sede\, dalle ore 21 alle 22 di martedì 14 Ottobre 2025. \nScarica la locandina completa\nScarica la mappa
URL:https://caicrema.it/evento/monte-cassio-salti-diavolo-2025/
CATEGORIES:TAM ONC
END:VEVENT
END:VCALENDAR