BEGIN:VCALENDAR
VERSION:2.0
PRODID:-//CAI - Club Alpino Italiano - Sezione di Crema - ECPv5.14.0.2//NONSGML v1.0//EN
CALSCALE:GREGORIAN
METHOD:PUBLISH
X-WR-CALNAME:CAI - Club Alpino Italiano - Sezione di Crema
X-ORIGINAL-URL:https://caicrema.it
X-WR-CALDESC:Eventi per CAI - Club Alpino Italiano - Sezione di Crema
REFRESH-INTERVAL;VALUE=DURATION:PT1H
X-Robots-Tag:noindex
X-PUBLISHED-TTL:PT1H
BEGIN:VTIMEZONE
TZID:Europe/Rome
BEGIN:DAYLIGHT
TZOFFSETFROM:+0100
TZOFFSETTO:+0200
TZNAME:CEST
DTSTART:20250330T010000
END:DAYLIGHT
BEGIN:STANDARD
TZOFFSETFROM:+0200
TZOFFSETTO:+0100
TZNAME:CET
DTSTART:20251026T010000
END:STANDARD
END:VTIMEZONE
BEGIN:VEVENT
DTSTART;TZID=Europe/Rome:20251129T070000
DTEND;TZID=Europe/Rome:20251129T170000
DTSTAMP:20260420T164407
CREATED:20251010T202738Z
LAST-MODIFIED:20251108T143313Z
UID:32149-1764399600-1764435600@caicrema.it
SUMMARY:COLLEGAMENTO SCIISTICO “COLERE - LIZZOLA” (TAM)
DESCRIPTION:Iscrizioni in sede\, dalle ore 21 alle 22 di martedì 25 Novembre 2025. \nN.B. Per le iscrizioni si legga il regolamento al seguente link: https://caicrema.it/regolamento-iscrizioni-tam/ \nATTENZIONE E’ STATA SPOSTATA AL 29 NOVEMBRE ed era candelarizzata al 15 NOVEMBRE\nScarica la locandina completa
URL:https://caicrema.it/evento/colere-lizzola-2025/
CATEGORIES:TAM ONC
END:VEVENT
END:VCALENDAR