BEGIN:VCALENDAR
VERSION:2.0
PRODID:-//CAI - Club Alpino Italiano - Sezione di Crema - ECPv5.14.0.2//NONSGML v1.0//EN
CALSCALE:GREGORIAN
METHOD:PUBLISH
X-WR-CALNAME:CAI - Club Alpino Italiano - Sezione di Crema
X-ORIGINAL-URL:https://caicrema.it
X-WR-CALDESC:Eventi per CAI - Club Alpino Italiano - Sezione di Crema
REFRESH-INTERVAL;VALUE=DURATION:PT1H
X-Robots-Tag:noindex
X-PUBLISHED-TTL:PT1H
BEGIN:VTIMEZONE
TZID:Europe/Rome
BEGIN:DAYLIGHT
TZOFFSETFROM:+0100
TZOFFSETTO:+0200
TZNAME:CEST
DTSTART:20260329T010000
END:DAYLIGHT
BEGIN:STANDARD
TZOFFSETFROM:+0200
TZOFFSETTO:+0100
TZNAME:CET
DTSTART:20261025T010000
END:STANDARD
END:VTIMEZONE
BEGIN:VEVENT
DTSTART;TZID=Europe/Rome:20260207T093000
DTEND;TZID=Europe/Rome:20260207T170000
DTSTAMP:20260420T124114
CREATED:20260106T111046Z
LAST-MODIFIED:20260227T165228Z
UID:32371-1770456600-1770483600@caicrema.it
SUMMARY:Bassa Via del Garda - IV Tappa (TAM)
DESCRIPTION:Percorso che si snoda tra alte muraglie delle limonaie\, prosegue nelle fasce degli uliveti\, boschi\, pianori e torrenti. Dopo aver superato la località S. Gaudenzio si raggiunge Muslone\, paese antico e solitario\, posto sull’orlo di un’alta parete rocciosa a picco sul lago. Usciti dal paese\, dopo un breve tratto nel bosco\, si attraversa un canalone percorso da una imponente pietraia e altre distese di massi che sembrano perdersi direttamente nel lago: sono le cosiddette “Ravere”\, canali di scarico dei soprastanti dirupi del monte Rocchetta. Dopo circa due chilometri\, eccoci ai bordi di Piovene\, anticipato dalla chiesa di S. Marco. Si prosegue per Aer ammirando alcune cascate. Arrivati ad Oldesio\, per un sentiero sospeso tra i dirupi\, di grande spettacolarità e di particolare interesse botanico\, si scende in località Prà dela Fam\, in riva al lago\, nei pressi di una grande limonaia recuperata dalla comunità montana. Rientro in autobus di linea. \nScarica la locandina completa
URL:https://caicrema.it/evento/bassa-via-del-garda-iv-tappa-tam/
CATEGORIES:TAM ONC
END:VEVENT
END:VCALENDAR