BEGIN:VCALENDAR
VERSION:2.0
PRODID:-//CAI - Club Alpino Italiano - Sezione di Crema - ECPv5.14.0.2//NONSGML v1.0//EN
CALSCALE:GREGORIAN
METHOD:PUBLISH
X-WR-CALNAME:CAI - Club Alpino Italiano - Sezione di Crema
X-ORIGINAL-URL:https://caicrema.it
X-WR-CALDESC:Eventi per CAI - Club Alpino Italiano - Sezione di Crema
REFRESH-INTERVAL;VALUE=DURATION:PT1H
X-Robots-Tag:noindex
X-PUBLISHED-TTL:PT1H
BEGIN:VTIMEZONE
TZID:Europe/Rome
BEGIN:DAYLIGHT
TZOFFSETFROM:+0100
TZOFFSETTO:+0200
TZNAME:CEST
DTSTART:20260329T010000
END:DAYLIGHT
BEGIN:STANDARD
TZOFFSETFROM:+0200
TZOFFSETTO:+0100
TZNAME:CET
DTSTART:20261025T010000
END:STANDARD
END:VTIMEZONE
BEGIN:VEVENT
DTSTART;TZID=Europe/Rome:20261017T080000
DTEND;TZID=Europe/Rome:20261017T170000
DTSTAMP:20260420T181610
CREATED:20260108T220447Z
LAST-MODIFIED:20260227T164805Z
UID:32492-1792224000-1792256400@caicrema.it
SUMMARY:Val Nure - Monte Burrasca (TAM)
DESCRIPTION:In cammino in un territorio di confine. Montereggio fu abitata fin dall’epoca romana; a testimonianza del fatto sono state ritrovate monete e reperti in cotto. A partire dal IV/V secolo sorse in località Castello di Montereggio\, ad opera dei monaci dell’abbazia di San Colombano di Bobbio\, la pieve dedicata ai santi Gervaso e Protaso\, edificata in stile romanico\, che era\, in origine\, affiancata ad un castello\, poi andato distrutto\, da cui deriva il toponimo. \nLa Torre di Manfredello (X sec.)\, posta a controllo degli antichi percorsi della Romea di Montagna. La torre presenta ben visibili le sue feritoie\, le finestre ad arco decorate e\, attorno\, i resti del villaggio circostante. \nIn questo territorio i cacciatori e raccoglitori dell’età della pietra e del bronzo risalivano il Monte Burrasca\, aspra roccia ofiolitica\, per inseguire le prede e dominare dall’alto l’alta Val Nure. Mentre nei secoli scorsi da qui si controllavano i passi che dall’Alta Val Ceno portavano al mare\, le antiche vie del sale. \nIscrizioni: martedì 13 ottobre – ore 21/22.00. \nScarica la locandina completa
URL:https://caicrema.it/evento/val-nure-monte-burrasca-tam/
CATEGORIES:TAM ONC
END:VEVENT
END:VCALENDAR